Package: DiffLogo Version: 2.34.0 Command: /Library/Frameworks/R.framework/Resources/bin/R CMD build --keep-empty-dirs --no-resave-data DiffLogo StartedAt: 2025-11-03 16:48:45 -0500 (Mon, 03 Nov 2025) EndedAt: 2025-11-03 16:49:44 -0500 (Mon, 03 Nov 2025) EllapsedTime: 58.1 seconds RetCode: 0 Status: OK PackageFile: DiffLogo_2.34.0.tar.gz PackageFileSize: 919.6 KiB