Package: DiffLogo Version: 2.34.0 Command: /Library/Frameworks/R.framework/Resources/bin/R CMD INSTALL DiffLogo StartedAt: 2025-11-02 15:01:45 -0500 (Sun, 02 Nov 2025) EndedAt: 2025-11-02 15:01:55 -0500 (Sun, 02 Nov 2025) EllapsedTime: 9.8 seconds RetCode: 0 Status: OK