Package: DiffLogo Version: 2.34.0 Command: /Library/Frameworks/R.framework/Resources/bin/R CMD build --keep-empty-dirs --no-resave-data DiffLogo StartedAt: 2025-11-02 16:12:43 -0500 (Sun, 02 Nov 2025) EndedAt: 2025-11-02 16:13:05 -0500 (Sun, 02 Nov 2025) EllapsedTime: 22.2 seconds RetCode: 0 Status: OK PackageFile: DiffLogo_2.34.0.tar.gz PackageFileSize: 919.5 KiB