Package: DiffLogo Version: 2.34.0 Command: rm -rf DiffLogo.buildbin-libdir && mkdir DiffLogo.buildbin-libdir && /Users/biocbuild/BBS/utils/build-universal.sh DiffLogo_2.34.0.tar.gz /Library/Frameworks/R.framework/Resources/bin/R DiffLogo.buildbin-libdir StartedAt: 2025-11-02 23:02:51 -0500 (Sun, 02 Nov 2025) EndedAt: 2025-11-02 23:02:53 -0500 (Sun, 02 Nov 2025) EllapsedTime: 2.1 seconds RetCode: 0 Status: OK PackageFile: DiffLogo_2.34.0.tgz PackageFileSize: 1.062 MiB