Package: DiffLogo Version: 2.34.0 Command: /Library/Frameworks/R.framework/Resources/bin/R CMD INSTALL DiffLogo StartedAt: 2025-11-17 16:53:20 -0500 (Mon, 17 Nov 2025) EndedAt: 2025-11-17 16:53:21 -0500 (Mon, 17 Nov 2025) EllapsedTime: 1.3 seconds RetCode: 0 Status: OK