Package: DiffLogo Version: 2.34.0 Command: rm -rf DiffLogo.buildbin-libdir && mkdir DiffLogo.buildbin-libdir && /Users/biocbuild/BBS/utils/build-universal.sh DiffLogo_2.34.0.tar.gz /Library/Frameworks/R.framework/Resources/bin/R DiffLogo.buildbin-libdir StartedAt: 2025-11-18 15:27:18 -0500 (Tue, 18 Nov 2025) EndedAt: 2025-11-18 15:27:21 -0500 (Tue, 18 Nov 2025) EllapsedTime: 3.0 seconds RetCode: 0 Status: OK PackageFile: DiffLogo_2.34.0.tgz PackageFileSize: 1.062 MiB