Package: DiffBind Version: 3.19.0 Command: /home/biocbuild/bbs-3.22-bioc/R/bin/R CMD INSTALL DiffBind StartedAt: 2025-10-27 15:54:59 -0400 (Mon, 27 Oct 2025) EndedAt: 2025-10-27 15:56:13 -0400 (Mon, 27 Oct 2025) EllapsedTime: 73.8 seconds RetCode: 0 Status: OK