Package: DiffBind Version: 3.20.0 Command: /Library/Frameworks/R.framework/Resources/bin/R CMD INSTALL DiffBind StartedAt: 2025-11-02 15:27:57 -0500 (Sun, 02 Nov 2025) EndedAt: 2025-11-02 15:28:26 -0500 (Sun, 02 Nov 2025) EllapsedTime: 29.7 seconds RetCode: 0 Status: OK