Package: DiffBind Version: 3.20.0 Command: rm -rf DiffBind.buildbin-libdir && mkdir DiffBind.buildbin-libdir && /Users/biocbuild/BBS/utils/build-universal.sh DiffBind_3.20.0.tar.gz /Library/Frameworks/R.framework/Resources/bin/R DiffBind.buildbin-libdir StartedAt: 2025-10-31 23:04:56 -0400 (Fri, 31 Oct 2025) EndedAt: 2025-10-31 23:05:28 -0400 (Fri, 31 Oct 2025) EllapsedTime: 31.6 seconds RetCode: 0 Status: OK PackageFile: DiffBind_3.20.0.tgz PackageFileSize: 7.061 MiB