Package: DiffBind Version: 3.20.0 Command: /Library/Frameworks/R.framework/Resources/bin/R CMD INSTALL DiffBind StartedAt: 2025-11-17 18:24:42 -0500 (Mon, 17 Nov 2025) EndedAt: 2025-11-17 18:25:11 -0500 (Mon, 17 Nov 2025) EllapsedTime: 28.7 seconds RetCode: 0 Status: OK