Package: DiffBind Version: 3.20.0 Command: /Library/Frameworks/R.framework/Resources/bin/R CMD build --keep-empty-dirs --no-resave-data DiffBind StartedAt: 2025-11-17 20:40:48 -0500 (Mon, 17 Nov 2025) EndedAt: 2025-11-17 20:42:11 -0500 (Mon, 17 Nov 2025) EllapsedTime: 82.8 seconds RetCode: 0 Status: OK PackageFile: DiffBind_3.20.0.tar.gz PackageFileSize: 6.486 MiB