Package: DiffBind Version: 3.20.0 Command: rm -rf DiffBind.buildbin-libdir && mkdir DiffBind.buildbin-libdir && /Users/biocbuild/BBS/utils/build-universal.sh DiffBind_3.20.0.tar.gz /Library/Frameworks/R.framework/Resources/bin/R DiffBind.buildbin-libdir StartedAt: 2025-11-18 15:27:02 -0500 (Tue, 18 Nov 2025) EndedAt: 2025-11-18 15:27:43 -0500 (Tue, 18 Nov 2025) EllapsedTime: 40.5 seconds RetCode: 0 Status: OK PackageFile: DiffBind_3.20.0.tgz PackageFileSize: 7.061 MiB