Package: DepInfeR Version: 1.14.0 Command: /home/biocbuild/bbs-3.22-bioc/R/bin/R CMD INSTALL DepInfeR StartedAt: 2025-10-31 15:13:58 -0400 (Fri, 31 Oct 2025) EndedAt: 2025-10-31 15:14:25 -0400 (Fri, 31 Oct 2025) EllapsedTime: 26.8 seconds RetCode: 0 Status: OK