Package: DepInfeR Version: 1.14.0 Command: /home/biocbuild/bbs-3.22-bioc/R/bin/R CMD build --keep-empty-dirs --no-resave-data --md5 DepInfeR StartedAt: 2025-10-31 17:26:46 -0400 (Fri, 31 Oct 2025) EndedAt: 2025-10-31 17:27:29 -0400 (Fri, 31 Oct 2025) EllapsedTime: 43.0 seconds RetCode: 0 Status: OK PackageFile: DepInfeR_1.14.0.tar.gz PackageFileSize: 2.365 MiB