Package: DelayedTensor Version: 1.15.0 Command: /Library/Frameworks/R.framework/Resources/bin/R CMD INSTALL DelayedTensor StartedAt: 2025-10-03 15:47:21 -0400 (Fri, 03 Oct 2025) EndedAt: 2025-10-03 15:48:00 -0400 (Fri, 03 Oct 2025) EllapsedTime: 39.0 seconds RetCode: 0 Status: OK