Package: DelayedTensor Version: 1.15.0 Command: /Library/Frameworks/R.framework/Resources/bin/R CMD build --keep-empty-dirs --no-resave-data DelayedTensor StartedAt: 2025-10-03 16:43:56 -0400 (Fri, 03 Oct 2025) EndedAt: 2025-10-03 16:48:42 -0400 (Fri, 03 Oct 2025) EllapsedTime: 286.4 seconds RetCode: 0 Status: OK PackageFile: DelayedTensor_1.15.0.tar.gz PackageFileSize: 4.129 MiB