Package: DelayedTensor Version: 1.15.0 Command: rm -rf DelayedTensor.buildbin-libdir && mkdir DelayedTensor.buildbin-libdir && /Users/biocbuild/BBS/utils/build-universal.sh DelayedTensor_1.15.0.tar.gz /Library/Frameworks/R.framework/Resources/bin/R DelayedTensor.buildbin-libdir StartedAt: 2025-10-04 02:01:44 -0400 (Sat, 04 Oct 2025) EndedAt: 2025-10-04 02:02:26 -0400 (Sat, 04 Oct 2025) EllapsedTime: 42.8 seconds RetCode: 0 Status: OK PackageFile: DelayedTensor_1.15.0.tgz PackageFileSize: 3.095 MiB