Package: DelayedTensor Version: 1.15.0 Command: /Library/Frameworks/R.framework/Resources/bin/R CMD build --keep-empty-dirs --no-resave-data DelayedTensor StartedAt: 2025-09-30 16:09:48 -0400 (Tue, 30 Sep 2025) EndedAt: 2025-09-30 16:11:01 -0400 (Tue, 30 Sep 2025) EllapsedTime: 72.8 seconds RetCode: 0 Status: OK PackageFile: DelayedTensor_1.15.0.tar.gz PackageFileSize: 4.129 MiB