Package: DelayedRandomArray Version: 1.18.0 Command: /Library/Frameworks/R.framework/Resources/bin/R CMD check --install=check:DelayedRandomArray.install-out.txt --library=/Library/Frameworks/R.framework/Resources/library --no-vignettes --timings DelayedRandomArray_1.18.0.tar.gz StartedAt: 2025-11-03 20:41:16 -0500 (Mon, 03 Nov 2025) EndedAt: 2025-11-03 20:43:50 -0500 (Mon, 03 Nov 2025) EllapsedTime: 153.4 seconds RetCode: 0 Status: OK CheckDir: DelayedRandomArray.Rcheck Warnings: 0