Package: DelayedRandomArray Version: 1.17.0 Command: /Library/Frameworks/R.framework/Resources/bin/R CMD INSTALL DelayedRandomArray StartedAt: 2025-10-26 15:09:06 -0400 (Sun, 26 Oct 2025) EndedAt: 2025-10-26 15:09:17 -0400 (Sun, 26 Oct 2025) EllapsedTime: 10.9 seconds RetCode: 0 Status: OK