Package: DelayedRandomArray Version: 1.18.0 Command: /Library/Frameworks/R.framework/Resources/bin/R CMD check --install=check:DelayedRandomArray.install-out.txt --library=/Library/Frameworks/R.framework/Resources/library --no-vignettes --timings DelayedRandomArray_1.18.0.tar.gz StartedAt: 2025-10-31 19:27:24 -0400 (Fri, 31 Oct 2025) EndedAt: 2025-10-31 19:28:16 -0400 (Fri, 31 Oct 2025) EllapsedTime: 52.6 seconds RetCode: 0 Status: OK CheckDir: DelayedRandomArray.Rcheck Warnings: 0