Package: DelayedMatrixStats Version: 1.31.0 Command: /Library/Frameworks/R.framework/Resources/bin/R CMD INSTALL DelayedMatrixStats StartedAt: 2025-10-24 15:26:06 -0400 (Fri, 24 Oct 2025) EndedAt: 2025-10-24 15:26:36 -0400 (Fri, 24 Oct 2025) EllapsedTime: 29.9 seconds RetCode: 0 Status: OK