Package: DelayedMatrixStats Version: 1.31.0 Command: rm -rf DelayedMatrixStats.buildbin-libdir && mkdir DelayedMatrixStats.buildbin-libdir && /Users/biocbuild/BBS/utils/build-universal.sh DelayedMatrixStats_1.31.0.tar.gz /Library/Frameworks/R.framework/Resources/bin/R DelayedMatrixStats.buildbin-libdir StartedAt: 2025-10-25 01:36:33 -0400 (Sat, 25 Oct 2025) EndedAt: 2025-10-25 01:37:04 -0400 (Sat, 25 Oct 2025) EllapsedTime: 30.9 seconds RetCode: 0 Status: OK PackageFile: DelayedMatrixStats_1.31.0.tgz PackageFileSize: 726.3 KiB