Package: DelayedMatrixStats Version: 1.31.0 Command: rm -rf DelayedMatrixStats.buildbin-libdir && mkdir DelayedMatrixStats.buildbin-libdir && /Users/biocbuild/BBS/utils/build-universal.sh DelayedMatrixStats_1.31.0.tar.gz /Library/Frameworks/R.framework/Resources/bin/R DelayedMatrixStats.buildbin-libdir StartedAt: 2025-10-26 22:34:04 -0400 (Sun, 26 Oct 2025) EndedAt: 2025-10-26 22:34:13 -0400 (Sun, 26 Oct 2025) EllapsedTime: 9.2 seconds RetCode: 0 Status: OK PackageFile: DelayedMatrixStats_1.31.0.tgz PackageFileSize: 728.5 KiB