Package: DelayedArray Version: 0.36.0 Command: /Library/Frameworks/R.framework/Resources/bin/R CMD INSTALL DelayedArray StartedAt: 2025-11-17 17:17:09 -0500 (Mon, 17 Nov 2025) EndedAt: 2025-11-17 17:18:20 -0500 (Mon, 17 Nov 2025) EllapsedTime: 70.9 seconds RetCode: 0 Status: OK