Package: DelayedArray Version: 0.36.0 Command: /Library/Frameworks/R.framework/Resources/bin/R CMD build --keep-empty-dirs --no-resave-data DelayedArray StartedAt: 2025-11-17 21:49:10 -0500 (Mon, 17 Nov 2025) EndedAt: 2025-11-17 21:51:43 -0500 (Mon, 17 Nov 2025) EllapsedTime: 153.8 seconds RetCode: 0 Status: OK PackageFile: DelayedArray_0.36.0.tar.gz PackageFileSize: 795.3 KiB