Package: DelayedArray Version: 0.35.3 Command: rm -rf DelayedArray.buildbin-libdir && mkdir DelayedArray.buildbin-libdir && /Users/biocbuild/BBS/utils/build-universal.sh DelayedArray_0.35.3.tar.gz /Library/Frameworks/R.framework/Resources/bin/R DelayedArray.buildbin-libdir StartedAt: 2025-10-24 23:00:24 -0400 (Fri, 24 Oct 2025) EndedAt: 2025-10-24 23:00:37 -0400 (Fri, 24 Oct 2025) EllapsedTime: 12.3 seconds RetCode: 0 Status: OK PackageFile: DelayedArray_0.35.3.tgz PackageFileSize: 2.404 MiB