Package: DelayedArray Version: 0.36.0 Command: /Library/Frameworks/R.framework/Resources/bin/R CMD build --keep-empty-dirs --no-resave-data DelayedArray StartedAt: 2025-11-17 20:33:38 -0500 (Mon, 17 Nov 2025) EndedAt: 2025-11-17 20:34:05 -0500 (Mon, 17 Nov 2025) EllapsedTime: 27.3 seconds RetCode: 0 Status: OK PackageFile: DelayedArray_0.36.0.tar.gz PackageFileSize: 793.7 KiB