Package: DelayedArray Version: 0.36.0 Command: rm -rf DelayedArray.buildbin-libdir && mkdir DelayedArray.buildbin-libdir && /Users/biocbuild/BBS/utils/build-universal.sh DelayedArray_0.36.0.tar.gz /Library/Frameworks/R.framework/Resources/bin/R DelayedArray.buildbin-libdir StartedAt: 2025-11-18 15:25:47 -0500 (Tue, 18 Nov 2025) EndedAt: 2025-11-18 15:26:02 -0500 (Tue, 18 Nov 2025) EllapsedTime: 15.2 seconds RetCode: 0 Status: OK PackageFile: DelayedArray_0.36.0.tgz PackageFileSize: 2.403 MiB