Package: DegNorm Version: 1.20.0 Command: /home/biocbuild/bbs-3.22-bioc/R/bin/R CMD INSTALL DegNorm StartedAt: 2025-11-06 15:39:30 -0500 (Thu, 06 Nov 2025) EndedAt: 2025-11-06 15:40:30 -0500 (Thu, 06 Nov 2025) EllapsedTime: 60.8 seconds RetCode: 0 Status: OK