Package: DegNorm Version: 1.20.0 Command: /home/biocbuild/bbs-3.22-bioc/R/bin/R CMD build --keep-empty-dirs --no-resave-data --md5 DegNorm StartedAt: 2025-11-06 17:14:39 -0500 (Thu, 06 Nov 2025) EndedAt: 2025-11-06 17:19:41 -0500 (Thu, 06 Nov 2025) EllapsedTime: 302.2 seconds RetCode: 0 Status: OK PackageFile: DegNorm_1.20.0.tar.gz PackageFileSize: 3.369 MiB