Package: DegCre Version: 1.6.0 Command: /home/biocbuild/bbs-3.22-bioc/R/bin/R CMD INSTALL DegCre StartedAt: 2025-11-17 17:55:34 -0500 (Mon, 17 Nov 2025) EndedAt: 2025-11-17 17:56:16 -0500 (Mon, 17 Nov 2025) EllapsedTime: 41.5 seconds RetCode: 0 Status: OK