Package: DegCre Version: 1.6.0 Command: /home/biocbuild/bbs-3.22-bioc/R/bin/R CMD build --keep-empty-dirs --no-resave-data --md5 DegCre StartedAt: 2025-11-17 20:34:48 -0500 (Mon, 17 Nov 2025) EndedAt: 2025-11-17 20:36:13 -0500 (Mon, 17 Nov 2025) EllapsedTime: 85.1 seconds RetCode: 0 Status: OK PackageFile: DegCre_1.6.0.tar.gz PackageFileSize: 2.296 MiB