Package: DeepPINCS Version: 1.17.0 Command: /home/biocbuild/bbs-3.22-bioc/R/bin/R CMD INSTALL DeepPINCS StartedAt: 2025-10-24 15:22:10 -0400 (Fri, 24 Oct 2025) EndedAt: 2025-10-24 15:22:25 -0400 (Fri, 24 Oct 2025) EllapsedTime: 14.5 seconds RetCode: 0 Status: OK