Package: DeepPINCS Version: 1.18.0 Command: /Library/Frameworks/R.framework/Resources/bin/R CMD build --keep-empty-dirs --no-resave-data DeepPINCS StartedAt: 2025-11-17 21:46:26 -0500 (Mon, 17 Nov 2025) EndedAt: 2025-11-17 21:54:44 -0500 (Mon, 17 Nov 2025) EllapsedTime: 497.8 seconds RetCode: 0 Status: OK PackageFile: DeepPINCS_1.18.0.tar.gz PackageFileSize: 3.113 MiB