Package: DeepPINCS Version: 1.18.0 Command: /Library/Frameworks/R.framework/Resources/bin/R CMD build --keep-empty-dirs --no-resave-data DeepPINCS StartedAt: 2025-11-03 16:43:23 -0500 (Mon, 03 Nov 2025) EndedAt: 2025-11-03 16:44:34 -0500 (Mon, 03 Nov 2025) EllapsedTime: 70.8 seconds RetCode: 1 Status: ERROR PackageFile: None PackageFileSize: NA