Package: DeepPINCS Version: 1.17.0 Command: /Library/Frameworks/R.framework/Resources/bin/R CMD INSTALL DeepPINCS StartedAt: 2025-10-24 15:09:08 -0400 (Fri, 24 Oct 2025) EndedAt: 2025-10-24 15:09:14 -0400 (Fri, 24 Oct 2025) EllapsedTime: 5.9 seconds RetCode: 0 Status: OK