Package: DeepPINCS Version: 1.17.0 Command: /Library/Frameworks/R.framework/Resources/bin/R CMD build --keep-empty-dirs --no-resave-data DeepPINCS StartedAt: 2025-10-24 16:11:34 -0400 (Fri, 24 Oct 2025) EndedAt: 2025-10-24 16:11:43 -0400 (Fri, 24 Oct 2025) EllapsedTime: 9.1 seconds RetCode: 0 Status: OK PackageFile: DeepPINCS_1.17.0.tar.gz PackageFileSize: 2.438 MiB