Package: DeepPINCS Version: 1.17.0 Command: rm -rf DeepPINCS.buildbin-libdir && mkdir DeepPINCS.buildbin-libdir && /Users/biocbuild/BBS/utils/build-universal.sh DeepPINCS_1.17.0.tar.gz /Library/Frameworks/R.framework/Resources/bin/R DeepPINCS.buildbin-libdir StartedAt: 2025-10-24 23:00:13 -0400 (Fri, 24 Oct 2025) EndedAt: 2025-10-24 23:00:21 -0400 (Fri, 24 Oct 2025) EllapsedTime: 8.2 seconds RetCode: 0 Status: OK PackageFile: DeepPINCS_1.17.0.tgz PackageFileSize: 2.237 MiB