Package: DeconRNASeq Version: 1.52.0 Command: /home/biocbuild/bbs-3.22-bioc/R/bin/R CMD INSTALL DeconRNASeq StartedAt: 2025-11-16 15:13:57 -0500 (Sun, 16 Nov 2025) EndedAt: 2025-11-16 15:14:03 -0500 (Sun, 16 Nov 2025) EllapsedTime: 6.2 seconds RetCode: 0 Status: OK