Package: DeconRNASeq Version: 1.52.0 Command: /home/biocbuild/bbs-3.22-bioc/R/bin/R CMD build --keep-empty-dirs --no-resave-data --md5 DeconRNASeq StartedAt: 2025-11-16 17:18:09 -0500 (Sun, 16 Nov 2025) EndedAt: 2025-11-16 17:18:19 -0500 (Sun, 16 Nov 2025) EllapsedTime: 10.0 seconds RetCode: 1 Status: ERROR PackageFile: None PackageFileSize: NA