Package: DTA Version: 2.56.0 Command: /home/biocbuild/bbs-3.22-bioc/R/bin/R CMD INSTALL DTA StartedAt: 2025-11-17 16:45:26 -0500 (Mon, 17 Nov 2025) EndedAt: 2025-11-17 16:45:34 -0500 (Mon, 17 Nov 2025) EllapsedTime: 8.0 seconds RetCode: 0 Status: OK