Package: DTA Version: 2.56.0 Command: /home/biocbuild/bbs-3.22-bioc/R/bin/R CMD build --keep-empty-dirs --no-resave-data --md5 DTA StartedAt: 2025-11-17 20:47:31 -0500 (Mon, 17 Nov 2025) EndedAt: 2025-11-17 20:52:19 -0500 (Mon, 17 Nov 2025) EllapsedTime: 288.2 seconds RetCode: 0 Status: OK PackageFile: DTA_2.56.0.tar.gz PackageFileSize: 11.21 MiB