Package: DSS Version: 2.58.0 Command: /home/biocbuild/bbs-3.22-bioc/R/bin/R CMD INSTALL DSS StartedAt: 2025-11-06 15:29:29 -0500 (Thu, 06 Nov 2025) EndedAt: 2025-11-06 15:30:09 -0500 (Thu, 06 Nov 2025) EllapsedTime: 39.8 seconds RetCode: 0 Status: OK