Package: DSS Version: 2.58.0 Command: /home/biocbuild/bbs-3.22-bioc/R/bin/R CMD build --keep-empty-dirs --no-resave-data --md5 DSS StartedAt: 2025-11-06 17:26:03 -0500 (Thu, 06 Nov 2025) EndedAt: 2025-11-06 17:27:03 -0500 (Thu, 06 Nov 2025) EllapsedTime: 60.0 seconds RetCode: 0 Status: OK PackageFile: DSS_2.58.0.tar.gz PackageFileSize: 2.03 MiB