Package: DRIMSeq Version: 1.38.0 Command: /home/biocbuild/R/R/bin/R CMD build --keep-empty-dirs --no-resave-data DRIMSeq StartedAt: 2025-11-18 01:15:54 -0000 (Tue, 18 Nov 2025) EndedAt: 2025-11-18 01:19:37 -0000 (Tue, 18 Nov 2025) EllapsedTime: 223.1 seconds RetCode: 0 Status: OK PackageFile: DRIMSeq_1.38.0.tar.gz PackageFileSize: 473.5 KiB