Package: DRIMSeq Version: 1.38.0 Maintainer: Malgorzata Nowicka MaintainerEmail: gosia.nowicka.uzh at gmail.com git_url: https://git.bioconductor.org/packages/DRIMSeq git_branch: RELEASE_3_22 git_last_commit: 7fdbd09 git_last_commit_date: 2025-10-29 10:30:52 -0400 (Wed, 29 Oct 2025)