Package: DOtools Version: 1.0.0 Command: /home/biocbuild/bbs-3.22-bioc/R/bin/R CMD INSTALL DOtools StartedAt: 2025-10-29 22:15:06 -0400 (Wed, 29 Oct 2025) EndedAt: 2025-10-29 22:15:54 -0400 (Wed, 29 Oct 2025) EllapsedTime: 48.1 seconds RetCode: 0 Status: OK