Package: DOtools Version: 0.99.11 Command: /home/biocbuild/bbs-3.22-bioc/R/bin/R CMD build --keep-empty-dirs --no-resave-data --md5 DOtools StartedAt: 2025-10-28 17:24:27 -0400 (Tue, 28 Oct 2025) EndedAt: 2025-10-28 17:28:25 -0400 (Tue, 28 Oct 2025) EllapsedTime: 237.3 seconds RetCode: 0 Status: OK PackageFile: DOtools_0.99.11.tar.gz PackageFileSize: 4.763 MiB