Package: DOSE Version: 4.4.0 Command: /home/biocbuild/bbs-3.22-bioc/R/bin/R CMD INSTALL DOSE StartedAt: 2025-11-20 16:37:01 -0500 (Thu, 20 Nov 2025) EndedAt: 2025-11-20 16:37:27 -0500 (Thu, 20 Nov 2025) EllapsedTime: 25.9 seconds RetCode: 0 Status: OK